BEGIN:VCALENDAR
VERSION:2.0
PRODID:-//Fox Run Golf Links - ECPv6.15.18//NONSGML v1.0//EN
CALSCALE:GREGORIAN
METHOD:PUBLISH
X-ORIGINAL-URL:https://www.foxrungolflinks.com
X-WR-CALDESC:Events for Fox Run Golf Links
REFRESH-INTERVAL;VALUE=DURATION:PT1H
X-Robots-Tag:noindex
X-PUBLISHED-TTL:PT1H
BEGIN:VTIMEZONE
TZID:America/Chicago
BEGIN:DAYLIGHT
TZOFFSETFROM:-0600
TZOFFSETTO:-0500
TZNAME:CDT
DTSTART:20250309T080000
END:DAYLIGHT
BEGIN:STANDARD
TZOFFSETFROM:-0500
TZOFFSETTO:-0600
TZNAME:CST
DTSTART:20251102T070000
END:STANDARD
BEGIN:DAYLIGHT
TZOFFSETFROM:-0600
TZOFFSETTO:-0500
TZNAME:CDT
DTSTART:20260308T080000
END:DAYLIGHT
BEGIN:STANDARD
TZOFFSETFROM:-0500
TZOFFSETTO:-0600
TZNAME:CST
DTSTART:20261101T070000
END:STANDARD
BEGIN:DAYLIGHT
TZOFFSETFROM:-0600
TZOFFSETTO:-0500
TZNAME:CDT
DTSTART:20270314T080000
END:DAYLIGHT
BEGIN:STANDARD
TZOFFSETFROM:-0500
TZOFFSETTO:-0600
TZNAME:CST
DTSTART:20271107T070000
END:STANDARD
END:VTIMEZONE
BEGIN:VEVENT
DTSTART;TZID=America/Chicago:20260501T140000
DTEND;TZID=America/Chicago:20260501T183000
DTSTAMP:20260423T055632
CREATED:20260418T231537Z
LAST-MODIFIED:20260418T231537Z
UID:10000081-1777644000-1777660200@www.foxrungolflinks.com
SUMMARY:Taylormade Fitting Day
DESCRIPTION:Get fit for the latest and greatest in Taylormade Golf equipment Friday\, May 1st from 2pm – 6:30pm at Fox Run Driving Range! \nSign up HERE to get a fitting experience scheduled!
URL:https://www.foxrungolflinks.com/event/taylormade-fitting-day-2/
END:VEVENT
END:VCALENDAR