BEGIN:VCALENDAR
VERSION:2.0
PRODID:-//Fox Run Golf Links - ECPv6.15.18//NONSGML v1.0//EN
CALSCALE:GREGORIAN
METHOD:PUBLISH
X-WR-CALNAME:Fox Run Golf Links
X-ORIGINAL-URL:https://www.foxrungolflinks.com
X-WR-CALDESC:Events for Fox Run Golf Links
REFRESH-INTERVAL;VALUE=DURATION:PT1H
X-Robots-Tag:noindex
X-PUBLISHED-TTL:PT1H
BEGIN:VTIMEZONE
TZID:UTC
BEGIN:STANDARD
TZOFFSETFROM:+0000
TZOFFSETTO:+0000
TZNAME:UTC
DTSTART:20220101T000000
END:STANDARD
END:VTIMEZONE
BEGIN:VEVENT
DTSTART;TZID=UTC:20230415T100000
DTEND;TZID=UTC:20230415T150000
DTSTAMP:20260420T103822
CREATED:20230322T053739Z
LAST-MODIFIED:20230326T022037Z
UID:10000004-1681552800-1681570800@www.foxrungolflinks.com
SUMMARY:Season Opening 2 Man Scramble
DESCRIPTION:Open up the golf season with us April 15th with our season opening 2 man scramble! \n10 am Shotgun\n$75 per person includes golf with cart\, food after the round\, and prizes. \nFollowing the round at 5pm we will be featuring a performance by Double Brewed in the Fox Run Clubhouse. \n2 Man Scramble Registration Form \nRegistration is available at Fox Run or over the phone at 847-228-3544.
URL:https://www.foxrungolflinks.com/event/season-opening-2-man-scramble/
END:VEVENT
BEGIN:VEVENT
DTSTART;TZID=UTC:20230414T190000
DTEND;TZID=UTC:20230414T210000
DTSTAMP:20260420T103822
CREATED:20230322T053422Z
LAST-MODIFIED:20230326T021942Z
UID:10000003-1681498800-1681506000@www.foxrungolflinks.com
SUMMARY:Date Night - April
DESCRIPTION:Join us for Date Night on April 14th at 7pm. $65 per couple. \nView the April menu here. \nRegistration available at Fox Run or or by phone at 847-228-3544.
URL:https://www.foxrungolflinks.com/event/date-night-april/
END:VEVENT
BEGIN:VEVENT
DTSTART;TZID=UTC:20230414T120000
DTEND;TZID=UTC:20230414T160000
DTSTAMP:20260420T103822
CREATED:20230322T053208Z
LAST-MODIFIED:20230322T053208Z
UID:10000002-1681473600-1681488000@www.foxrungolflinks.com
SUMMARY:Taylormade Demo Day
DESCRIPTION:Join us from 12pm – 4pm at the Fox Run Driving Range to try the latest and greatest in Taylormade golf club technology. \nSign ups are available here \nTry new equipment and take advantage of great demo day offers!
URL:https://www.foxrungolflinks.com/event/taylormade-demo-day/
END:VEVENT
BEGIN:VEVENT
DTSTART;VALUE=DATE:20230317
DTEND;VALUE=DATE:20230320
DTSTAMP:20260420T103822
CREATED:20230304T062104Z
LAST-MODIFIED:20230304T062104Z
UID:10000001-1679011200-1679270399@www.foxrungolflinks.com
SUMMARY:One Club Madness Simulator Tournament
DESCRIPTION:Date: March 17\, 2023 – March 19\, 2023\n\n\n \nOne Club Madness Simulator Tournament. \n9 Holes. 1 Club. 1 Champion. \nGrab one club and join us in the simulators for 9 holes as we determine the best 1 club golfer at Fox Run! Play at your preferred time:\nFriday: 4pm-10pm\nSaturday/Sunday: 1pm-7pm \n$35 Entry Fee includes sandwich\, drink ticket\, and prizes. \nRegister at the Pro Shop or by phone at 847-228-3544.
URL:https://www.foxrungolflinks.com/event/one-club-madness-simulator-tournament/
END:VEVENT
END:VCALENDAR